BEGIN:VCALENDAR
VERSION:2.0
PRODID:-//Physiotherapie von Behr - ECPv6.15.20//NONSGML v1.0//EN
CALSCALE:GREGORIAN
METHOD:PUBLISH
X-WR-CALNAME:Physiotherapie von Behr
X-ORIGINAL-URL:https://physio-behr.de
X-WR-CALDESC:Veranstaltungen für Physiotherapie von Behr
REFRESH-INTERVAL;VALUE=DURATION:PT1H
X-Robots-Tag:noindex
X-PUBLISHED-TTL:PT1H
BEGIN:VTIMEZONE
TZID:Europe/Berlin
BEGIN:DAYLIGHT
TZOFFSETFROM:+0100
TZOFFSETTO:+0200
TZNAME:CEST
DTSTART:20250330T010000
END:DAYLIGHT
BEGIN:STANDARD
TZOFFSETFROM:+0200
TZOFFSETTO:+0100
TZNAME:CET
DTSTART:20251026T010000
END:STANDARD
BEGIN:DAYLIGHT
TZOFFSETFROM:+0100
TZOFFSETTO:+0200
TZNAME:CEST
DTSTART:20260329T010000
END:DAYLIGHT
BEGIN:STANDARD
TZOFFSETFROM:+0200
TZOFFSETTO:+0100
TZNAME:CET
DTSTART:20261025T010000
END:STANDARD
BEGIN:DAYLIGHT
TZOFFSETFROM:+0100
TZOFFSETTO:+0200
TZNAME:CEST
DTSTART:20270328T010000
END:DAYLIGHT
BEGIN:STANDARD
TZOFFSETFROM:+0200
TZOFFSETTO:+0100
TZNAME:CET
DTSTART:20271031T010000
END:STANDARD
END:VTIMEZONE
BEGIN:VEVENT
DTSTART;TZID=Europe/Berlin:20260306T120000
DTEND;TZID=Europe/Berlin:20260306T163000
DTSTAMP:20260422T105942
CREATED:20250923T120236Z
LAST-MODIFIED:20250923T121530Z
UID:7916-1772798400-1772814600@physio-behr.de
SUMMARY:Schulung
DESCRIPTION:
URL:https://physio-behr.de/all-events/schulung-2/
CATEGORIES:Schulungstag
END:VEVENT
BEGIN:VEVENT
DTSTART;VALUE=DATE:20260313
DTEND;VALUE=DATE:20260314
DTSTAMP:20260422T105942
CREATED:20250925T104943Z
LAST-MODIFIED:20250925T104943Z
UID:7986-1773360000-1773446399@physio-behr.de
SUMMARY:Anne
DESCRIPTION:
URL:https://physio-behr.de/all-events/anne/
CATEGORIES:Geburtstage
END:VEVENT
BEGIN:VEVENT
DTSTART;VALUE=DATE:20260317
DTEND;VALUE=DATE:20260318
DTSTAMP:20260422T105942
CREATED:20250925T105212Z
LAST-MODIFIED:20250925T105212Z
UID:7988-1773705600-1773791999@physio-behr.de
SUMMARY:Laure
DESCRIPTION:
URL:https://physio-behr.de/all-events/laure/
CATEGORIES:Geburtstage
END:VEVENT
BEGIN:VEVENT
DTSTART;VALUE=DATE:20260318
DTEND;VALUE=DATE:20260319
DTSTAMP:20260422T105942
CREATED:20250925T105242Z
LAST-MODIFIED:20250925T105242Z
UID:7990-1773792000-1773878399@physio-behr.de
SUMMARY:Simon
DESCRIPTION:
URL:https://physio-behr.de/all-events/simon/
CATEGORIES:Geburtstage
END:VEVENT
BEGIN:VEVENT
DTSTART;VALUE=DATE:20260322
DTEND;VALUE=DATE:20260323
DTSTAMP:20260422T105942
CREATED:20250925T105314Z
LAST-MODIFIED:20250925T105314Z
UID:7992-1774137600-1774223999@physio-behr.de
SUMMARY:Jannik
DESCRIPTION:
URL:https://physio-behr.de/all-events/jannik/
CATEGORIES:Geburtstage
END:VEVENT
END:VCALENDAR